BEGIN:VCALENDAR
VERSION:2.0
PRODID:-//Peach Fest - ECPv6.15.18//NONSGML v1.0//EN
CALSCALE:GREGORIAN
METHOD:PUBLISH
X-WR-CALNAME:Peach Fest
X-ORIGINAL-URL:https://peachfest.com
X-WR-CALDESC:Events for Peach Fest
REFRESH-INTERVAL;VALUE=DURATION:PT1H
X-Robots-Tag:noindex
X-PUBLISHED-TTL:PT1H
BEGIN:VTIMEZONE
TZID:America/Vancouver
BEGIN:DAYLIGHT
TZOFFSETFROM:-0800
TZOFFSETTO:-0700
TZNAME:PDT
DTSTART:20220313T100000
END:DAYLIGHT
BEGIN:STANDARD
TZOFFSETFROM:-0700
TZOFFSETTO:-0800
TZNAME:PST
DTSTART:20221106T090000
END:STANDARD
BEGIN:DAYLIGHT
TZOFFSETFROM:-0800
TZOFFSETTO:-0700
TZNAME:PDT
DTSTART:20230312T100000
END:DAYLIGHT
BEGIN:STANDARD
TZOFFSETFROM:-0700
TZOFFSETTO:-0800
TZNAME:PST
DTSTART:20231105T090000
END:STANDARD
BEGIN:DAYLIGHT
TZOFFSETFROM:-0800
TZOFFSETTO:-0700
TZNAME:PDT
DTSTART:20240310T100000
END:DAYLIGHT
BEGIN:STANDARD
TZOFFSETFROM:-0700
TZOFFSETTO:-0800
TZNAME:PST
DTSTART:20241103T090000
END:STANDARD
END:VTIMEZONE
BEGIN:VEVENT
DTSTART;TZID=America/Vancouver:20230809T210000
DTEND;TZID=America/Vancouver:20230809T213000
DTSTAMP:20260424T094214
CREATED:20221212T073438Z
LAST-MODIFIED:20230412T230752Z
UID:2566-1691614800-1691616600@peachfest.com
SUMMARY:Reel Peach Film Festival
DESCRIPTION:Showcase your commercial or short video in front of 5\,000-plus viewers. We are looking for more than a few pretty pictures strung together — there should be visuals that entertain and creatively tell a story about the Okanagan that evokes community pride\, call to action or an emotional response. The festival is open to professionals and wannabe film makers.
URL:https://peachfest.com/event/reel-peach-film-festival-2/
LOCATION:Peters Bros. Main Stage
CATEGORIES:Music & Arts
ATTACH;FMTTYPE=image/jpeg:https://peachfest.com/wp-content/uploads/2021/08/Hero-photo-scaled.jpg
END:VEVENT
BEGIN:VEVENT
DTSTART;TZID=America/Vancouver:20230809T210000
DTEND;TZID=America/Vancouver:20230809T213000
DTSTAMP:20260424T094214
CREATED:20221212T073438Z
LAST-MODIFIED:20230412T230752Z
UID:2566-1691614800-1691616600@peachfest.com
SUMMARY:Reel Peach Film Festival
DESCRIPTION:Showcase your commercial or short video in front of 5\,000-plus viewers. We are looking for more than a few pretty pictures strung together — there should be visuals that entertain and creatively tell a story about the Okanagan that evokes community pride\, call to action or an emotional response. The festival is open to professionals and wannabe film makers.
URL:https://peachfest.com/event/reel-peach-film-festival-2/
LOCATION:Peters Bros. Main Stage
CATEGORIES:Music & Arts
ATTACH;FMTTYPE=image/jpeg:https://peachfest.com/wp-content/uploads/2021/08/Hero-photo-scaled.jpg
END:VEVENT
BEGIN:VEVENT
DTSTART;TZID=America/Vancouver:20230809T210000
DTEND;TZID=America/Vancouver:20230809T213000
DTSTAMP:20260424T094214
CREATED:20221212T073438Z
LAST-MODIFIED:20230412T230752Z
UID:2566-1691614800-1691616600@peachfest.com
SUMMARY:Reel Peach Film Festival
DESCRIPTION:Showcase your commercial or short video in front of 5\,000-plus viewers. We are looking for more than a few pretty pictures strung together — there should be visuals that entertain and creatively tell a story about the Okanagan that evokes community pride\, call to action or an emotional response. The festival is open to professionals and wannabe film makers.
URL:https://peachfest.com/event/reel-peach-film-festival-2/
LOCATION:Peters Bros. Main Stage
CATEGORIES:Music & Arts
ATTACH;FMTTYPE=image/jpeg:https://peachfest.com/wp-content/uploads/2021/08/Hero-photo-scaled.jpg
END:VEVENT
BEGIN:VEVENT
DTSTART;TZID=America/Vancouver:20230807T210000
DTEND;TZID=America/Vancouver:20230807T213000
DTSTAMP:20260424T094214
CREATED:20230925T150251Z
LAST-MODIFIED:20230925T181242Z
UID:2927-1691442000-1691443800@peachfest.com
SUMMARY:Reel Peach Film Festival
DESCRIPTION:Showcase your commercial or short video in front of 5\,000-plus viewers. We are looking for more than a few pretty pictures strung together — there should be visuals that entertain and creatively tell a story about the Okanagan that evokes community pride\, call to action or an emotional response. The festival is open to professionals and wannabe film makers.
URL:https://peachfest.com/event/reel-peach-film-festival-2022/
LOCATION:Peters Bros. Main Stage
CATEGORIES:Music & Arts
ATTACH;FMTTYPE=image/jpeg:https://peachfest.com/wp-content/uploads/2021/08/Hero-photo-scaled.jpg
END:VEVENT
END:VCALENDAR