BEGIN:VCALENDAR
VERSION:2.0
PRODID:-//Peach Fest - ECPv6.15.18//NONSGML v1.0//EN
CALSCALE:GREGORIAN
METHOD:PUBLISH
X-ORIGINAL-URL:https://peachfest.com
X-WR-CALDESC:Events for Peach Fest
REFRESH-INTERVAL;VALUE=DURATION:PT1H
X-Robots-Tag:noindex
X-PUBLISHED-TTL:PT1H
BEGIN:VTIMEZONE
TZID:America/Vancouver
BEGIN:DAYLIGHT
TZOFFSETFROM:-0800
TZOFFSETTO:-0700
TZNAME:PDT
DTSTART:20240310T100000
END:DAYLIGHT
BEGIN:STANDARD
TZOFFSETFROM:-0700
TZOFFSETTO:-0800
TZNAME:PST
DTSTART:20241103T090000
END:STANDARD
BEGIN:DAYLIGHT
TZOFFSETFROM:-0800
TZOFFSETTO:-0700
TZNAME:PDT
DTSTART:20250309T100000
END:DAYLIGHT
BEGIN:STANDARD
TZOFFSETFROM:-0700
TZOFFSETTO:-0800
TZNAME:PST
DTSTART:20251102T090000
END:STANDARD
BEGIN:DAYLIGHT
TZOFFSETFROM:-0800
TZOFFSETTO:-0700
TZNAME:PDT
DTSTART:20260308T100000
END:DAYLIGHT
BEGIN:STANDARD
TZOFFSETFROM:-0700
TZOFFSETTO:-0800
TZNAME:PST
DTSTART:20261101T090000
END:STANDARD
BEGIN:DAYLIGHT
TZOFFSETFROM:-0800
TZOFFSETTO:-0700
TZNAME:PDT
DTSTART:20270314T100000
END:DAYLIGHT
BEGIN:STANDARD
TZOFFSETFROM:-0700
TZOFFSETTO:-0800
TZNAME:PST
DTSTART:20271107T090000
END:STANDARD
END:VTIMEZONE
BEGIN:VEVENT
DTSTART;TZID=America/Vancouver:20250806T090000
DTEND;TZID=America/Vancouver:20250806T120000
DTSTAMP:20260423T210823
CREATED:20230925T151508Z
LAST-MODIFIED:20250716T062419Z
UID:2933-1754470800-1754481600@peachfest.com
SUMMARY:Home Hardware Kids Zone
DESCRIPTION:We are excited to present the Home Hardware Kid Zone\, at the 2025 Penticton Peach Festival. Bring the kids down to Gyro Park from 9 a.m. to noon on Wednesday\, Aug. 6\, Thursday\, Aug. 7 and Friday\, Aug. 8.
URL:https://peachfest.com/event/homehardware-kids-zone/
LOCATION:Gyro Park\, 55 Main St\, Penticton\, Britsh Columbia\, V2A 5K1\, Canada
CATEGORIES:Kiddie Fun
ATTACH;FMTTYPE=image/jpeg:https://peachfest.com/wp-content/uploads/2021/01/kids-zone-sponsored-by-penticton-home-hardware.jpg
END:VEVENT
BEGIN:VEVENT
DTSTART;TZID=America/Vancouver:20250806T120000
DTEND;TZID=America/Vancouver:20250806T143000
DTSTAMP:20260423T210823
CREATED:20240528T195326Z
LAST-MODIFIED:20250704T001837Z
UID:3085-1754481600-1754490600@peachfest.com
SUMMARY:London Drugs Seniors Day
DESCRIPTION:Seniors Day sponsored by London Drugs\nKick-off the opening day of Peach Festival from noon to 2:30pm with a special Seniors Day celebration\, sponsored by London Drugs\, in Okanagan Lake Park.
URL:https://peachfest.com/event/london-drugs-seniors-day/
LOCATION:Peters Bros. Main Stage
CATEGORIES:Kiddie Fun
ATTACH;FMTTYPE=image/jpeg:https://peachfest.com/wp-content/uploads/2024/07/Line-dancers-scaled.jpg
END:VEVENT
BEGIN:VEVENT
DTSTART;VALUE=DATE:20260805
DTEND;VALUE=DATE:20260810
DTSTAMP:20260423T210823
CREATED:20210210T020710Z
LAST-MODIFIED:20260408T022036Z
UID:1704-1785888000-1786319999@peachfest.com
SUMMARY:RPR Heating & Cooling Mega Motocross
DESCRIPTION:RPR Heating & Cooling Mega Motocross\nLakeshore Drive\, adjacent to Okanagan Lake Park
URL:https://peachfest.com/event/rprheatingcooling-mega-motocross/
LOCATION:Lakeshore Drive and Martin Street\, Lakeshore Drive and Martin Street\, Penticton\, BC\, Canada
ATTACH;FMTTYPE=image/jpeg:https://peachfest.com/wp-content/uploads/2021/02/motocross.jpg
END:VEVENT
BEGIN:VEVENT
DTSTART;TZID=America/Vancouver:20250806T090000
DTEND;TZID=America/Vancouver:20250806T120000
DTSTAMP:20260423T210823
CREATED:20230925T151508Z
LAST-MODIFIED:20250716T062419Z
UID:2933-1754470800-1754481600@peachfest.com
SUMMARY:Home Hardware Kids Zone
DESCRIPTION:We are excited to present the Home Hardware Kid Zone\, at the 2025 Penticton Peach Festival. Bring the kids down to Gyro Park from 9 a.m. to noon on Wednesday\, Aug. 6\, Thursday\, Aug. 7 and Friday\, Aug. 8.
URL:https://peachfest.com/event/homehardware-kids-zone/
LOCATION:Gyro Park\, 55 Main St\, Penticton\, Britsh Columbia\, V2A 5K1\, Canada
CATEGORIES:Kiddie Fun
ATTACH;FMTTYPE=image/jpeg:https://peachfest.com/wp-content/uploads/2021/01/kids-zone-sponsored-by-penticton-home-hardware.jpg
END:VEVENT
BEGIN:VEVENT
DTSTART;VALUE=DATE:20260805
DTEND;VALUE=DATE:20260810
DTSTAMP:20260423T210823
CREATED:20210210T020710Z
LAST-MODIFIED:20260408T022036Z
UID:1704-1785888000-1786319999@peachfest.com
SUMMARY:RPR Heating & Cooling Mega Motocross
DESCRIPTION:RPR Heating & Cooling Mega Motocross\nLakeshore Drive\, adjacent to Okanagan Lake Park
URL:https://peachfest.com/event/rprheatingcooling-mega-motocross/
LOCATION:Lakeshore Drive and Martin Street\, Lakeshore Drive and Martin Street\, Penticton\, BC\, Canada
ATTACH;FMTTYPE=image/jpeg:https://peachfest.com/wp-content/uploads/2021/02/motocross.jpg
END:VEVENT
BEGIN:VEVENT
DTSTART;VALUE=DATE:20260805
DTEND;VALUE=DATE:20260810
DTSTAMP:20260423T210823
CREATED:20210210T020710Z
LAST-MODIFIED:20260408T022036Z
UID:1704-1785888000-1786319999@peachfest.com
SUMMARY:RPR Heating & Cooling Mega Motocross
DESCRIPTION:RPR Heating & Cooling Mega Motocross\nLakeshore Drive\, adjacent to Okanagan Lake Park
URL:https://peachfest.com/event/rprheatingcooling-mega-motocross/
LOCATION:Lakeshore Drive and Martin Street\, Lakeshore Drive and Martin Street\, Penticton\, BC\, Canada
ATTACH;FMTTYPE=image/jpeg:https://peachfest.com/wp-content/uploads/2021/02/motocross.jpg
END:VEVENT
BEGIN:VEVENT
DTSTART;TZID=America/Vancouver:20250807T173000
DTEND;TZID=America/Vancouver:20250807T193000
DTSTAMP:20260423T210823
CREATED:20201215T175926Z
LAST-MODIFIED:20250724T035422Z
UID:847-1754587800-1754595000@peachfest.com
SUMMARY:Sandcastle Competition
DESCRIPTION:REGISTRATION TIME\n\n4 p.m. near the sundial on Thursday\, Aug. 7\, 2025\nSculpture Time: 5:30 – 7:30 p.m.\nKids sculpture time: 5:30 – 6:30 p.m.\nOn-Line Registration cut-off –  noon Aug 6th – afterwards register in person\, on Thursday at Skaha Lake at our booth.\n\nENTRY FEES:\n\nCorporate/Business Challenge Team: (eight adults max\, unlimited kids under 12 years old) $75\nFamily & Friends Team: (max two adults\, six kids for a total of eight team members) $25\nKid’s Team: (max 6 kids\, age 12 and under) $10\n\n(Kids category will get a 10ft x 10ft square plot and will be allowed to build for one hour\, after which their sculpture will be judged and the winning prize awarded. If parents wish to direct children’s activities\, please enter the Family Team category.) \nCheques payable to Rotary Clubs of Penticton Charitable Society \nPRIZES:\n\nCorporate/Business Challenge Team –  $500 to charity of choice\nFamily/Friends team – Prize bag\nKids Team – Prize bag 
URL:https://peachfest.com/event/sandcastle-competition/
LOCATION:Skaha Beach\, Skaha Lake Rd & Parkview Street\, Penticton\, British Columbia
CATEGORIES:Sports & Action
ATTACH;FMTTYPE=image/jpeg:https://peachfest.com/wp-content/uploads/2020/12/SandcastleCompetition.jpg
END:VEVENT
BEGIN:VEVENT
DTSTART;TZID=America/Vancouver:20250806T090000
DTEND;TZID=America/Vancouver:20250806T120000
DTSTAMP:20260423T210823
CREATED:20230925T151508Z
LAST-MODIFIED:20250716T062419Z
UID:2933-1754470800-1754481600@peachfest.com
SUMMARY:Home Hardware Kids Zone
DESCRIPTION:We are excited to present the Home Hardware Kid Zone\, at the 2025 Penticton Peach Festival. Bring the kids down to Gyro Park from 9 a.m. to noon on Wednesday\, Aug. 6\, Thursday\, Aug. 7 and Friday\, Aug. 8.
URL:https://peachfest.com/event/homehardware-kids-zone/
LOCATION:Gyro Park\, 55 Main St\, Penticton\, Britsh Columbia\, V2A 5K1\, Canada
CATEGORIES:Kiddie Fun
ATTACH;FMTTYPE=image/jpeg:https://peachfest.com/wp-content/uploads/2021/01/kids-zone-sponsored-by-penticton-home-hardware.jpg
END:VEVENT
BEGIN:VEVENT
DTSTART;VALUE=DATE:20260805
DTEND;VALUE=DATE:20260810
DTSTAMP:20260423T210823
CREATED:20210210T020710Z
LAST-MODIFIED:20260408T022036Z
UID:1704-1785888000-1786319999@peachfest.com
SUMMARY:RPR Heating & Cooling Mega Motocross
DESCRIPTION:RPR Heating & Cooling Mega Motocross\nLakeshore Drive\, adjacent to Okanagan Lake Park
URL:https://peachfest.com/event/rprheatingcooling-mega-motocross/
LOCATION:Lakeshore Drive and Martin Street\, Lakeshore Drive and Martin Street\, Penticton\, BC\, Canada
ATTACH;FMTTYPE=image/jpeg:https://peachfest.com/wp-content/uploads/2021/02/motocross.jpg
END:VEVENT
BEGIN:VEVENT
DTSTART;VALUE=DATE:20260805
DTEND;VALUE=DATE:20260810
DTSTAMP:20260423T210823
CREATED:20210210T020710Z
LAST-MODIFIED:20260408T022036Z
UID:1704-1785888000-1786319999@peachfest.com
SUMMARY:RPR Heating & Cooling Mega Motocross
DESCRIPTION:RPR Heating & Cooling Mega Motocross\nLakeshore Drive\, adjacent to Okanagan Lake Park
URL:https://peachfest.com/event/rprheatingcooling-mega-motocross/
LOCATION:Lakeshore Drive and Martin Street\, Lakeshore Drive and Martin Street\, Penticton\, BC\, Canada
ATTACH;FMTTYPE=image/jpeg:https://peachfest.com/wp-content/uploads/2021/02/motocross.jpg
END:VEVENT
BEGIN:VEVENT
DTSTART;VALUE=DATE:20250809
DTEND;VALUE=DATE:20250810
DTSTAMP:20260423T210823
CREATED:20230925T151349Z
LAST-MODIFIED:20250728T022321Z
UID:2931-1754697600-1754783999@peachfest.com
SUMMARY:Sheila Bishop Slo-Pitch Tournament
DESCRIPTION:Join us for the fun-filled 22nd annual Sheila Bishop Memorial Wood Bat Tournament returning to the Penticton Peach Festival from Saturday\, Aug. 9\, 2025 to Sunday\, Aug. 10\, 2025. \n 
URL:https://peachfest.com/event/sheila-bishop-slo-pitch-tournament/
LOCATION:Lions Park\, 198 Warren Avenue West\, Penticton\, British Columbia\, Canada
CATEGORIES:Sports & Action
ATTACH;FMTTYPE=image/jpeg:https://peachfest.com/wp-content/uploads/2023/09/image002-e1740857634550.jpg
END:VEVENT
BEGIN:VEVENT
DTSTART;VALUE=DATE:20250809
DTEND;VALUE=DATE:20250810
DTSTAMP:20260423T210823
CREATED:20250302T204931Z
LAST-MODIFIED:20250302T205116Z
UID:3320-1754697600-1754783999@peachfest.com
SUMMARY:Sheila Bishop Slo-Pitch Tournament
DESCRIPTION:Join us for the fun-filled 21st annual Sheila Bishop Memorial Wood Bat Tournament returning to the Penticton Peach Festival from Saturday\, Aug. 9\, 2025 to Sunday\, Aug. 10\, 2025. \n 
URL:https://peachfest.com/event/sheila-bishop-slo-pitch-tournament-2/
LOCATION:Lions Park\, 198 Warren Avenue West\, Penticton\, British Columbia\, Canada
CATEGORIES:Sports & Action
ATTACH;FMTTYPE=image/jpeg:https://peachfest.com/wp-content/uploads/2023/09/image002-e1740857634550.jpg
END:VEVENT
BEGIN:VEVENT
DTSTART;VALUE=DATE:20250809
DTEND;VALUE=DATE:20250811
DTSTAMP:20260423T210823
CREATED:20250728T022347Z
LAST-MODIFIED:20250728T022347Z
UID:3480-1754697600-1754870399@peachfest.com
SUMMARY:Sheila Bishop Slo-Pitch Tournament
DESCRIPTION:Join us for the fun-filled 22nd annual Sheila Bishop Memorial Wood Bat Tournament returning to the Penticton Peach Festival from Saturday\, Aug. 9\, 2025 to Sunday\, Aug. 10\, 2025. \n 
URL:https://peachfest.com/event/sheila-bishop-slo-pitch-tournament-4/
LOCATION:Lions Park\, 198 Warren Avenue West\, Penticton\, British Columbia\, Canada
CATEGORIES:Sports & Action
ATTACH;FMTTYPE=image/jpeg:https://peachfest.com/wp-content/uploads/2023/09/image002-e1740857634550.jpg
END:VEVENT
BEGIN:VEVENT
DTSTART;TZID=America/Vancouver:20250809T100000
DTEND;TZID=America/Vancouver:20250810T180000
DTSTAMP:20260423T210823
CREATED:20220518T201602Z
LAST-MODIFIED:20250602T194931Z
UID:2237-1754733600-1754848800@peachfest.com
SUMMARY:JCI Penticton Beach Volleyball Tournament
DESCRIPTION:PeachFest is excited to announce the JCI Penticton Beach Volleyball Tournament\, taking place Saturday\, Aug.9 to Sunday\, Aug. 10\, 2025. \nSponsors include:
URL:https://peachfest.com/event/jci-penticton-beach-volleyball-tournament/
LOCATION:Skaha Beach\, Skaha Lake Rd & Parkview Street\, Penticton\, British Columbia
CATEGORIES:Sports & Action
ATTACH;FMTTYPE=image/png:https://peachfest.com/wp-content/uploads/2022/05/BeachVball-2.png
END:VEVENT
BEGIN:VEVENT
DTSTART;TZID=America/Vancouver:20250809T100000
DTEND;TZID=America/Vancouver:20250810T180000
DTSTAMP:20260423T210823
CREATED:20220518T201602Z
LAST-MODIFIED:20250602T194931Z
UID:2237-1754733600-1754848800@peachfest.com
SUMMARY:JCI Penticton Beach Volleyball Tournament
DESCRIPTION:PeachFest is excited to announce the JCI Penticton Beach Volleyball Tournament\, taking place Saturday\, Aug.9 to Sunday\, Aug. 10\, 2025. \nSponsors include:
URL:https://peachfest.com/event/jci-penticton-beach-volleyball-tournament/
LOCATION:Skaha Beach\, Skaha Lake Rd & Parkview Street\, Penticton\, British Columbia
CATEGORIES:Sports & Action
ATTACH;FMTTYPE=image/png:https://peachfest.com/wp-content/uploads/2022/05/BeachVball-2.png
END:VEVENT
BEGIN:VEVENT
DTSTART;TZID=America/Vancouver:20260804T170000
DTEND;TZID=America/Vancouver:20260810T220000
DTSTAMP:20260423T210823
CREATED:20210118T151106Z
LAST-MODIFIED:20260104T085308Z
UID:1514-1785862800-1786399200@peachfest.com
SUMMARY:Shooting Star Amusements
DESCRIPTION:Shooting Star Amusements will be in Penticton on Tuesday\, August 4 (the day before Peach Festival begins) and during Peach Festival August 5-9\, 2026. \nLakeshore Drive and Martin St Penticton\, B.C. \nFun rides\, games\, food and drinks for kids big and small! \nFor more information\, visit Shooting Star Amusements! \n\n*Please note that closing hours vary\, based on weather and guest attendance.  Please ask at the ticket booth for closing hours before you purchase your tickets or wristbands.*
URL:https://peachfest.com/event/shooting-star-amusements/
LOCATION:Lakeshore Drive and Martin Street\, Lakeshore Drive and Martin Street\, Penticton\, BC\, Canada
CATEGORIES:Kiddie Fun
ATTACH;FMTTYPE=image/jpeg:https://peachfest.com/wp-content/uploads/2021/01/shootingstars2.jpg
END:VEVENT
BEGIN:VEVENT
DTSTART;VALUE=DATE:20260805
DTEND;VALUE=DATE:20260810
DTSTAMP:20260423T210823
CREATED:20210210T020710Z
LAST-MODIFIED:20260408T022036Z
UID:1704-1785888000-1786319999@peachfest.com
SUMMARY:RPR Heating & Cooling Mega Motocross
DESCRIPTION:RPR Heating & Cooling Mega Motocross\nLakeshore Drive\, adjacent to Okanagan Lake Park
URL:https://peachfest.com/event/rprheatingcooling-mega-motocross/
LOCATION:Lakeshore Drive and Martin Street\, Lakeshore Drive and Martin Street\, Penticton\, BC\, Canada
ATTACH;FMTTYPE=image/jpeg:https://peachfest.com/wp-content/uploads/2021/02/motocross.jpg
END:VEVENT
BEGIN:VEVENT
DTSTART;VALUE=DATE:20260805
DTEND;VALUE=DATE:20260810
DTSTAMP:20260423T210823
CREATED:20251225T034917Z
LAST-MODIFIED:20260409T041549Z
UID:3634-1785888000-1786319999@peachfest.com
SUMMARY:Reel Peach Film Festival 2026
DESCRIPTION:Showcase your commercial or short video in front of 5\,000-plus viewers. We are looking for more than a few pretty pictures strung together — there should be visuals that entertain and creatively tell a story about the Okanagan that evokes community pride\, call to action or an emotional response. The festival is open to professionals and wannabe film makers.
URL:https://peachfest.com/event/reel-peach-film-festival/
LOCATION:Peters Bros. Main Stage
CATEGORIES:Music & Arts
ATTACH;FMTTYPE=image/jpeg:https://peachfest.com/wp-content/uploads/2021/08/Hero-photo-scaled.jpg
END:VEVENT
BEGIN:VEVENT
DTSTART;TZID=America/Vancouver:20260807T180000
DTEND;TZID=America/Vancouver:20260807T183000
DTSTAMP:20260423T210823
CREATED:20260103T210819Z
LAST-MODIFIED:20260104T084811Z
UID:3729-1786125600-1786127400@peachfest.com
SUMMARY:Peachfest Royalty
DESCRIPTION:2026/2027 Crowning is on Aug. 7th\, 2026 at the main stage located in Okanagan Lake Park. \nCongratulations to Queen Val Vedette The 78th\, Miss Penticton 2025/2026 Chanelle Steyn\, and Penticton Princess Maia Dodd!
URL:https://peachfest.com/event/peachfest-royalty-2/
LOCATION:Peters Bros. Main Stage
CATEGORIES:Peachfest Royalty
ATTACH;FMTTYPE=image/jpeg:https://peachfest.com/wp-content/uploads/2021/01/Day-3-peachfest-119.jpg
END:VEVENT
BEGIN:VEVENT
DTSTART;TZID=America/Vancouver:20260807T190000
DTEND;TZID=America/Vancouver:20260807T200000
DTSTAMP:20260423T210823
CREATED:20210116T214529Z
LAST-MODIFIED:20260104T084921Z
UID:1457-1786129200-1786132800@peachfest.com
SUMMARY:Peachfest Royalty
DESCRIPTION:2026/2027 Crowning is on Aug. 7th\, 2026 at the main stage located in Okanagan Lake Park. Congratulations to Queen Val Vedette The 78th\, Miss Penticton 2025/2026 Chanelle Steyn\, and Penticton Princess Maia Dodd!
URL:https://peachfest.com/event/peachfest-royalty/
LOCATION:Peters Bros. Main Stage
CATEGORIES:Peachfest Royalty
ATTACH;FMTTYPE=image/jpeg:https://peachfest.com/wp-content/uploads/2021/01/Day-3-peachfest-119.jpg
END:VEVENT
BEGIN:VEVENT
DTSTART;TZID=America/Vancouver:20260808T100000
DTEND;TZID=America/Vancouver:20260808T113000
DTSTAMP:20260423T210823
CREATED:20210116T210643Z
LAST-MODIFIED:20260324T163106Z
UID:1447-1786183200-1786188600@peachfest.com
SUMMARY:Bannister Penticton Peach N' Beach Parade
DESCRIPTION:Saturday\, Aug. 8\, 2026 Starts at 10 am on Main Street and Eckhart Avenue \nThe Bannister Penticton Peach N’ Beach  Parade is proudly sponsored by Bannister Penticton. \nPlan to come early to get your spot and watch them and bring along non-perishable food items to be collected by the local food bank to help fill their need. Our parade is the largest in B.C.’s interior and is about an hour and a half long!
URL:https://peachfest.com/event/bannister-peach-beach-parade/
LOCATION:Main Street\, Main Street and Eckhart Avenue\, Penticton\, British Columbia\, Canada
CATEGORIES:Bannister Penticton Peach N’ Beach Parade
ATTACH;FMTTYPE=image/jpeg:https://peachfest.com/wp-content/uploads/2021/01/Day-4-peachfest-1-scaled.jpg
END:VEVENT
BEGIN:VEVENT
DTSTART;TZID=America/Vancouver:20260809T070000
DTEND;TZID=America/Vancouver:20260809T170000
DTSTAMP:20260423T210823
CREATED:20210118T142624Z
LAST-MODIFIED:20251225T070817Z
UID:1483-1786258800-1786294800@peachfest.com
SUMMARY:Across the Lake Swim
DESCRIPTION:Sunday\, Aug. 9\, 2026 Skaha Lake \nRegistration is now open \n4.5 km point-to-point open water swim from Kaleden to Okanagan Falls \n11.8 km point-to-point open water swim from Penticton to Okanagan Falls \nSpace is limited to 100 athletes \nFor more information visit www.acrossthelakeswim.com
URL:https://peachfest.com/event/across-the-lake-swim/
LOCATION:Skaha Beach\, Skaha Lake Rd & Parkview Street\, Penticton\, British Columbia
CATEGORIES:Sports & Action
ATTACH;FMTTYPE=image/jpeg:https://peachfest.com/wp-content/uploads/2021/01/skaha-lake-ultra-swim-sm.jpg
END:VEVENT
BEGIN:VEVENT
DTSTART;TZID=America/Vancouver:20260809T103000
DTEND;TZID=America/Vancouver:20260809T120000
DTSTAMP:20260423T210823
CREATED:20210116T193304Z
LAST-MODIFIED:20260323T170216Z
UID:845-1786271400-1786276800@peachfest.com
SUMMARY:Minuteman Press Kiddies Day Parade
DESCRIPTION:Kiddies Day Parade sponsored by  Minuteman Press\n \nPre-registration is now closed\nMinuteman Press Kiddies’ Day is on Sunday\, Aug. 9\, 2026.\nIf you haven’t pre-registered\, you can still participate! Registration on-site for the Minuteman Press Kiddies Day Parade is at 10:30 a.m.\, judging at 11:00 a.m.\nParade starts at 11:30 a.m.\nAll parade participants will receive some goodies and will be entered to win prizes.
URL:https://peachfest.com/event/kiddies-day-parade/
LOCATION:Nanaimo Square\, Corner of Nanaimo Ave. W & Main St.\, Penticton\, British Columbia\, Canada
CATEGORIES:Kiddie Fun
ATTACH;FMTTYPE=image/jpeg:https://peachfest.com/wp-content/uploads/2021/01/peachfest-kiddies-day-parade-entrant.jpg
END:VEVENT
BEGIN:VEVENT
DTSTART;TZID=America/Vancouver:20260809T120000
DTEND;TZID=America/Vancouver:20260809T150000
DTSTAMP:20260423T210823
CREATED:20250730T214951Z
LAST-MODIFIED:20251225T070647Z
UID:3489-1786276800-1786287600@peachfest.com
SUMMARY:Valley First Kiddies Day Events
DESCRIPTION:Kiddies Day Events sponsored by  ValleyFirst\n \nValley First Kiddies Day events start at noon (following the parade) until 3 p.m. in Okanagan Lake Park\, followed by regular Peach Fest entertainment until 10 p.m. In addition to live entertainment\, the free fun includes: a petting zoo\, bouncy castles\, Reptiles and lots of free fun! Thanks to Valley First Credit Union for our last day of free family fun!
URL:https://peachfest.com/event/kiddies-day-events/
LOCATION:Okanagan Lake Park\, 86 Lakeshore Dr E\, Penticton\, BC\, V2A 1B5\, Canada
CATEGORIES:Kiddie Fun
ATTACH;FMTTYPE=image/jpeg:https://peachfest.com/wp-content/uploads/2025/07/DSC_4340-scaled.jpg
END:VEVENT
END:VCALENDAR